BEGIN:VCALENDAR
VERSION:2.0
PRODID:-//The Fetish Network//Events//EN
CALSCALE:GREGORIAN
METHOD:PUBLISH
BEGIN:VEVENT
UID:event-26@www.thefetishnetwork.com
DTSTAMP:20260422T140622Z
DTSTART:20261218T183000Z
DTEND:20261218T223000Z
SUMMARY:MancsBound December 2026 – Xmas Special | Manchester Bondage & Fetish Social
DESCRIPTION:Xmas Special at MancsBound Manchester. 3rd Friday at The Eagle\, Bloom Street. Bondage & fetish social for men/male-presenting with dress code and consent-first vibe. — https://www.thefetishnetwork.com/events/mancsbound-december-2026-xmas-special-manchester-bondage-fetish-social
URL:https://www.thefetishnetwork.com/events/mancsbound-december-2026-xmas-special-manchester-bondage-fetish-social
LOCATION:Eagle Bar\, Bloom Street\, Manchester\, M1 3HZ\, Manchester City Centre\, England\, United Kingdom
END:VEVENT
END:VCALENDAR
