BEGIN:VCALENDAR
VERSION:2.0
PRODID:-//The Fetish Network//Events//EN
CALSCALE:GREGORIAN
METHOD:PUBLISH
BEGIN:VEVENT
UID:event-22@www.thefetishnetwork.com
DTSTAMP:20260422T140227Z
DTSTART:20260821T173000Z
DTEND:20260821T213000Z
SUMMARY:MancsBound August 2026 – Beach Wear (Surf & Wet Suits) | Manchester Fetish & Bondage Night
DESCRIPTION:Beach wear theme at MancsBound Manchester. 3rd Friday at The Eagle\, Bloom Street. Bondage & fetish social for men/male-presenting with dress code and a consent-first atmosphere. — https://www.thefetishnetwork.com/events/mancsbound-august-2026-beach-wear-surf-wet-suits-manchester-fetish-bondage-night
URL:https://www.thefetishnetwork.com/events/mancsbound-august-2026-beach-wear-surf-wet-suits-manchester-fetish-bondage-night
LOCATION:Eagle Bar\, Bloom Street\, Manchester\, M1 3HZ\, Manchester City Centre\, England\, United Kingdom
END:VEVENT
END:VCALENDAR
