BEGIN:VCALENDAR
VERSION:2.0
PRODID:-//The Fetish Network//Events//EN
CALSCALE:GREGORIAN
METHOD:PUBLISH
BEGIN:VEVENT
UID:event-12@www.thefetishnetwork.com
DTSTAMP:20260422T140304Z
DTSTART:20260502T180000Z
DTEND:20260503T010000Z
SUMMARY:Manchester Leathermen Social (May)
DESCRIPTION:May Manchester Leathermen Social at The Lodge (Eagle Club). Monthly leather community meetup with a friendly gear-focused atmosphere. Leather encouraged. — https://www.thefetishnetwork.com/events/manchester-leathermen-social-may-2026
URL:https://www.thefetishnetwork.com/events/manchester-leathermen-social-may-2026
LOCATION:The Lodge\, Eagle Club\, Manchester City Centre\, England\, United Kingdom
END:VEVENT
END:VCALENDAR
