BEGIN:VCALENDAR
VERSION:2.0
PRODID:-//The Fetish Network//Events//EN
CALSCALE:GREGORIAN
METHOD:PUBLISH
BEGIN:VEVENT
UID:event-35@www.thefetishnetwork.com
DTSTAMP:20260422T140227Z
DTSTART:20260620T220000Z
DTEND:20260621T030000Z
SUMMARY:HELLBENT: Pop Fantasy & Full Fetish - June
DESCRIPTION:Join HELLBENT on June 20\, 2026\, at Eagle Manchester. Leather\, rubber\, and iconic pop anthems. — https://www.thefetishnetwork.com/events/hellbent-eagle-manchester-june-2026
URL:https://www.thefetishnetwork.com/events/hellbent-eagle-manchester-june-2026
LOCATION:Eagle Manchester\, Manchester\, England\, United Kingdom
END:VEVENT
END:VCALENDAR
